Workbook

Sheet 원가계산서
B1: 공 사 원 가 계 산 서
B2: 공사명 : 데이터 안심구역 구조 개편공사
B3: 비 목 | E3: 합 계 | F3: 구 성 비 | G3: 비 고
A4: A1 | B4: 순 공 사 원 가 | C4: 재 료 비 | D4: 직 접 재 료 비 | E4: =TRUNC(공종별집계표!F5, 0) -> 0
A5: A2 | D5: 간 접 재 료 비 | E5: 0
A6: A3 | D6: 작업설, 부산물(△) | E6: 0
A7: AS | D7: [ 소 계 ] | E7: =TRUNC(E4+E5-E6, 0) -> 0
A8: B1 | C8: 노 무 비 | D8: 직 접 노 무 비 | E8: =TRUNC(공종별집계표!H5, 0) -> 0
A9: B2 | D9: 간 접 노 무 비 | E9: =TRUNC(E8*0.175, 0) -> 0 | F9: 직접노무비 * 17.5%
A10: BS | D10: [ 소 계 ] | E10: =TRUNC(E8+E9, 0) -> 0
A11: C2 | C11: 경 비 | D11: 경 비 | E11: =TRUNC(공종별집계표!J5, 0) -> 0
A12: C4 | D12: 산 재 보 험 료 | E12: =TRUNC(E10*0.0356, 0) -> 0 | F12: 노무비 * 3.56%
A13: C5 | D13: 고 용 보 험 료 | E13: =TRUNC(E10*0.0101, 0) -> 0 | F13: 노무비 * 1.01%
A14: C6 | D14: 국민 건강 보험료 | E14: =TRUNC(E8*0.03595, 0) -> 0 | F14: 직접노무비 * 3.595%
A15: CB | D15: 노인장기요양보험료 | E15: =TRUNC(E14*0.1314, 0) -> 0 | F15: 건강보험료 * 13.14%
A16: C7 | D16: 국민 연금 보험료 | E16: =TRUNC(E8*0.0475, 0) -> 0 | F16: 직접노무비 * 4.75%
A17: C8 | D17: 퇴직 공제 부금비 | E17: =TRUNC(E8*0.023, 0) -> 0 | F17: 직접노무비 * 2.3%
A18: CA | D18: 산업안전보건관리비 | E18: =TRUNC((E7+E8+(0/1.1))*0.0311, 0) -> 0 | F18: (재료비+직노+관급자재비) * 3.11%
A19: CG | D19: 기 타 경 비 | E19: =TRUNC((E7+E10)*0.05, 0) -> 0 | F19: (재료비+노무비) * 5%
A20: CH | D20: 환 경 보 전 비 | E20: =TRUNC((E7+E8+E11)*0.003, 0) -> 0 | F20: (재료비+직노+경비) * 0.3%
A21: CK | D21: 하도급지급보증수수료 | F21: (재료비+직노+경비) * 0.081% | G21: 하도급 적용 없음
A22: CL | D22: 건설기계대여금지급보증서발급수수료 | E22: =TRUNC((E7+E8+E11)*0.0007, 0) -> 0 | F22: (재료비+직노+경비) * 0.07%
A23: CM | D23: 석 면 분 담 금 | E23: =TRUNC(E10*0.00006, 0) -> 0 | F23: 노무비 * 0.006%
A24: CN | D24: 임 금 채 권 부 담 금 | E24: =TRUNC(E10*0.0009, 0) -> 0 | F24: 노무비 * 0.09%
A25: CS | D25: [ 소 계 ] | E25: =TRUNC(E11+E12+E13+E14+E16+E17+E18+E15+E19+E20+E21+E22+E23+E24, 0) -> 0
A26: S1 | B26: 계 | E26: =TRUNC(E7+E10+E25, 0) -> 0
A27: D1 | B27: 일 반 관 리 비 | E27: =TRUNC(E26*0.08, 0) -> 0 | F27: 계 * 8%
A28: D2 | B28: 이 윤 | E28: =TRUNC((E10+E25+E27)*0.15, 0) -> 0 | F28: (노무비+경비+일반관리비) * 15%
A29: D4 | B29: 폐기물처리비 | E29: =TRUNC(공종별집계표!T12, 0) -> 0
A30: D9 | B30: 공 급 가 액 | E30: =TRUNC(E26+E27+E28+E29, -4) -> 0
A31: DB | B31: 부 가 가 치 세 | E31: =TRUNC(E30*0.1, 0) -> 0 | F31: 공급가액 * 10%
A32: DH | B32: 도 급 액 | E32: =TRUNC(E30+E31, 0) -> 0
A33: S2 | B33: 총 공 사 비 | E33: =TRUNC(E32+0, 0) -> 0

Sheet 공종별집계표
A1: 공 종 별 집 계 표
A2: [ 데이터 안심구역 구조 개편공사 ]
A3: 품 명 | B3: 규 격 | C3: 단위 | D3: 수량 | E3: 재 료 비 | G3: 노 무 비 | I3: 경 비 | K3: 합 계 | M3: 비 고 | N3: 공종코드 | O3: 변수 | P3: 상위공종 | Q3: 공종구분 | R3: 공종레벨 | S3: 공종소계 | T3: 원가계산서 연결금액
E4: 단 가 | F4: 금 액 | G4: 단 가 | H4: 금 액 | I4: 단 가 | J4: 금 액 | K4: 단 가 | L4: 금 액
A5: 01 데이터 안심구역 구조 개편공사 | D5: 1 | E5: =F6 -> 0 | I5: =J6 -> 0 | J5: =I5*D5 -> 0 | K5: =E5+G5+I5 -> 0 | L5: =F5+H5+J5 -> 0 | N5: 01 | R5: 1
A6: 0101 인테리어공사 | D6: 1 | E6: =F7+F8+F9+F10+F11+F13+F14 -> 0 | I6: =J7+J8+J9+J10+J11+J13+J14 -> 0 | J6: =I6*D6 -> 0 | K6: =E6+G6+I6 -> 0 | L6: =F6+H6+J6 -> 0 | N6: 0101 | P6: 01 | R6: 2
A7: 010101 가 설 공 사 | D7: 1 | E7: ='(건축)공종별내역서'!F26 -> 0 | I7: ='(건축)공종별내역서'!J26 -> 0 | J7: =I7*D7 -> 0 | K7: =E7+G7+I7 -> 0 | L7: =F7+H7+J7 -> 0 | N7: 010101 | P7: 0101 | R7: 3
A8: 010102 철 거 공 사 | D8: 1 | E8: ='(건축)공종별내역서'!F49 -> 0 | I8: ='(건축)공종별내역서'!J49 -> 0 | J8: =I8*D8 -> 0 | K8: =E8+G8+I8 -> 0 | L8: =F8+H8+J8 -> 0 | N8: 010102 | P8: 0101 | R8: 3
A9: 010103 바 닥 공 사 | D9: 1 | E9: ='(건축)공종별내역서'!F72 -> 0 | F9: =E9*D9 -> 0 | G9: ='(건축)공종별내역서'!H72 -> 0 | H9: =G9*D9 -> 0 | I9: ='(건축)공종별내역서'!J72 -> 0 | J9: =I9*D9 -> 0 | K9: =E9+G9+I9 -> 0 | L9: =F9+H9+J9 -> 0 | N9: 010103 | P9: 0101 | R9: 3
A10: 010104 벽 체 공 사 | D10: 1 | E10: ='(건축)공종별내역서'!F118 -> 0 | F10: =E10*D10 -> 0 | G10: ='(건축)공종별내역서'!H118 -> 0 | H10: =G10*D10 -> 0 | I10: ='(건축)공종별내역서'!J118 -> 0 | J10: =I10*D10 -> 0 | K10: =E10+G10+I10 -> 0 | L10: =F10+H10+J10 -> 0 | N10: 010104 | P10: 0101 | R10: 3
A11: 010105 천 정 공 사 | D11: 1 | E11: ='(건축)공종별내역서'!F141 -> 0 | F11: =E11*D11 -> 0 | G11: ='(건축)공종별내역서'!H141 -> 0 | H11: =G11*D11 -> 0 | I11: ='(건축)공종별내역서'!J141 -> 0 | J11: =I11*D11 -> 0 | K11: =E11+G11+I11 -> 0 | L11: =F11+H11+J11 -> 0 | N11: 010105 | P11: 0101 | R11: 3
A12: 0102 건설폐기물처리비 | D12: 1 | E12: ='(건축)공종별내역서'!F164 -> 0 | F12: =E12*D12 -> 0 | G12: ='(건축)공종별내역서'!H164 -> 0 | H12: =G12*D12 -> 0 | I12: ='(건축)공종별내역서'!J164 -> 0 | J12: =I12*D12 -> 0 | K12: =E12+G12+I12 -> 0 | L12: =F12+H12+J12 -> 0 | N12: 0102 | Q12: 5 | R12: 2 | T12: =L12*1 -> 0
A13: 010301 급수배관공사 | D13: 1 | E13: ='(기계)공종별내역서'!F27 -> 0 | F13: =E13*D13 -> 0 | G13: ='(기계)공종별내역서'!H27 -> 0 | H13: =G13*D13 -> 0 | I13: ='(기계)공종별내역서'!J27 -> 0 | J13: =I13*D13 -> 0 | K13: =E13+G13+I13 -> 0 | L13: =F13+H13+J13 -> 0
A14: 010302 급수배관철거공사 | D14: 1 | E14: ='(기계)공종별내역서'!F51 -> 0 | F14: =E14*D14 -> 0 | G14: ='(기계)공종별내역서'!H51 -> 0 | H14: =G14*D14 -> 0 | I14: ='(기계)공종별내역서'!J51 -> 0 | J14: =I14*D14 -> 0 | K14: =E14+G14+I14 -> 0 | L14: =F14+H14+J14 -> 0
A26: [ 합 계 ] | F26: =F5 -> 0 | H26: =H5 -> 0 | J26: =J5 -> 0 | L26: =L5 -> 0

Sheet (건축)공종별내역서
A1: [ 데이터 안심구역 구조 개편공사 ]
A2: 품 명 | B2: 규 격 | C2: 단위 | D2: 수량 | E2: 재 료 비 | G2: 노 무 비 | I2: 경 비 | K2: 합 계 | M2: 비 고 | N2: 품목코드 | O2: 변수 | P2: 설정 | Q2: 공종코드 | R2: 일위 | S2: 단산 | T2: 자재 | U2: 손료적용 | V2: 손료저장 | W2: 적용율 | X2: JUK1 | Y2: JUK2 | Z2: JUK3 | AA2: JUK4 | AB2: JUK5 | AC2: JUK6 | AD2: JUK7 | AE2: JUK8 | AF2: JUK9 | AG2: JUK10 | AH2: JUK11 | AI2: JUK12 | AJ2: JUK13 | AK2: JUK14 | AL2: JUK15 | AM2: JUK16 | AN2: JUK17 | AO2: JUK18 | AP2: JUK19 | AQ2: JUK20 | AR2: 자재구분 | AS2: 공종구분 | AT2: 공종레벨 | AU2: 공종+자재 | AV2: 고유번호
E3: 단 가 | F3: 금 액 | G3: 단 가 | H3: 금 액 | I3: 단 가 | J3: 금 액 | K3: 단 가 | L3: 금 액
A4: 010101 가 설 공 사 | Q4: 010101
A5: 강관 조립말비계(이동식)설치 및 해체 | B5: 높이 2m, 3개월 | C5: 대 | D5: 3 | N5: 51539271653F6535D1E8BA256945D6 | Q5: 010101 | R5: T | S5: F | T5: F | AU5: 01010151539271653F6535D1E8BA256945D6 | AV5: 4
A6: 건축물보양 | B6: 플로베니아 | C6: M2 | D6: 488 | N6: 5153927160B8A73F61210DE4F417FE | Q6: 010101 | R6: T | S6: F | T6: F | AU6: 0101015153927160B8A73F61210DE4F417FE | AV6: 5
A7: 건축물 현장정리 | B7: 리모델링,준공청소포함 | C7: M2 | D7: 488 | N7: 5153927160BB7A34C185F52E0BDC7E | Q7: 010101 | R7: T | S7: F | T7: F | AU7: 0101015153927160BB7A34C185F52E0BDC7E | AV7: 6
A8: 가설벽체 설치 | B8: T50 래핑판넬, 해체 포함 | C8: M2 | D8: 62.9 | N8: 5153927160BE313C71156DC2E2BBD2 | Q8: 010101 | R8: T | S8: F | T8: F | AU8: 0101015153927160BE313C71156DC2E2BBD2 | AV8: 7
A9: 가설도어 설치 | B9: T50 래핑판넬, 해체 포함 | C9: EA | D9: 1 | N9: 5153927160BE313C71156DC2E2BBD1 | Q9: 010101 | R9: T | S9: F | T9: F | AU9: 0101015153927160BE313C71156DC2E2BBD1 | AV9: 37
A10: 준공청소 | B10: 리모델링 | C10: M2 | D10: 488 | N10: 5153927160BE313C71156DC2E08A05 | Q10: 010101 | R10: T | S10: F | T10: F | AU10: 0101015153927160BE313C71156DC2E08A05 | AV10: 8
Q11: 010101
Q12: 010101
Q13: 010101
Q14: 010101
Q15: 010101
Q16: 010101
Q17: 010101
Q18: 010101
Q19: 010101
Q20: 010101
Q21: 010101
Q22: 010101
... Q25: 010101
A26: [ 합 계 ] | F26: =SUMIF(Q5:Q25,"010101",F5:F25) -> 0 | H26: =SUMIF(Q5:Q25,"010101",H5:H25) -> 0 | J26: =SUMIF(Q5:Q25,"010101",J5:J25) -> 0 | L26: =SUMIF(Q5:Q25,"010101",L5:L25) -> 0 | N26: TOTAL
A27: 010102 철 거 공 사 | Q27: 010102
A28: 흡음텍스 해체 | C28: M2 | D28: 78 | N28: 5152928169D3983ED114FB6F6C698F | Q28: 010102 | R28: T | S28: F | T28: F | AU28: 0101025152928169D3983ED114FB6F6C698F | AV28: 10
A29: 스크린루버 해체 | C29: M2 | D29: 15 | N29: 5152928169D3983ED114FB6F6C698E | Q29: 010102 | R29: T | S29: F | T29: F | AU29: 0101025152928169D3983ED114FB6F6C698E | AV29: 11
A30: 벽체 철거 | B30: 석고 보드 | C30: M2 | D30: 137 | N30: 5152928169D3983ED114FFCA5C10C4 | Q30: 010102 | R30: T | S30: F | T30: F | AU30: 0101025152928169D3983ED114FFCA5C10C4 | AV30: 12
A31: 벽체 철거 | B31: 부착물 마감재 철거 | C31: M2 | D31: 46.3 | N31: 5152928169D3983ED114FFCA5C10C7 | Q31: 010102 | R31: T | S31: F | T31: F | AU31: 0101025152928169D3983ED114FFCA5C10C7 | AV31: 13
A32: 유리벽체 철거 | B32: 유리 및 프레임 철거 | C32: M2 | D32: 158.8 | N32: 5152928169D3983ED114FFCA5C10C6 | Q32: 010102 | R32: T | S32: F | T32: F | AU32: 0101025152928169D3983ED114FFCA5C10C6 | AV32: 14
A33: 카펫타일 철거 | B33: 카펫 철거 | C33: M2 | D33: 465 | N33: 5152928169D3983ED114F16B185C43 | Q33: 010102 | R33: T | S33: F | T33: F | AU33: 0101025152928169D3983ED114F16B185C43 | AV33: 15
A34: 데코타일 철거 | B34: 우드타일 | C34: M2 | D34: 13 | N34: 5152928169D3983ED114F16B185C40 | Q34: 010102 | R34: T | S34: F | T34: F | AU34: 0101025152928169D3983ED114F16B185C40 | AV34: 16
A35: 가구철거 | C35: M | D35: 13.7 | N35: 5152928169D3983ED114F045179018 | Q35: 010102 | R35: T | S35: F | T35: F | AU35: 0101025152928169D3983ED114F045179018 | AV35: 17
Q36: 010102
Q37: 010102
Q38: 010102
Q39: 010102
Q40: 010102
Q41: 010102
Q42: 010102
...

Sheet (기계)공종별내역서
A1: [ 2026 데이터 안심구역 구조 개편 실시설계 ]
A2: 품 명 | B2: 규 격 | C2: 단위 | D2: 수량 | E2: 재 료 비 | G2: 노 무 비 | I2: 경 비 | K2: 합 계 | M2: 비 고 | N2: 품목코드 | O2: 변수 | P2: 설정 | Q2: 공종코드 | R2: 일위 | S2: 단산 | T2: 자재 | U2: 손료적용 | V2: 손료저장 | W2: 적용율 | X2: JUK1 | Y2: JUK2 | Z2: JUK3 | AA2: JUK4 | AB2: JUK5 | AC2: JUK6 | AD2: JUK7 | AE2: JUK8 | AF2: JUK9 | AG2: JUK10 | AH2: JUK11 | AI2: JUK12 | AJ2: JUK13 | AK2: JUK14 | AL2: JUK15 | AM2: JUK16 | AN2: JUK17 | AO2: JUK18 | AP2: JUK19 | AQ2: JUK20 | AR2: 자재구분 | AS2: 공종구분 | AT2: 공종레벨 | AU2: 공종+자재 | AV2: 고유번호
E3: 단 가 | F3: 금 액 | G3: 단 가 | H3: 금 액 | I3: 단 가 | J3: 금 액 | K3: 단 가 | L3: 금 액
A4: 010301 급수배관공사 | Q4: 010101
A5: 스테인레스배관(K-TYPE) | B5: D 13 | C5: M | D5: 57 | N5: 432918D54835F53CA43D991A79E | R5: T | S5: F | T5: F | AU5: 010101432918D54835F53CA43D991A79E | AV5: 4
A6: 스테인레스배관(K-TYPE) | B6: D 80 | C6: M | D6: 1 | N6: 432918D54835F53CA43D991A797 | R6: T | S6: F | T6: F | AU6: 010101432918D54835F53CA43D991A797 | AV6: 5
A7: 관보온(아티론+매직) | B7: 25TxD15 | C7: M | D7: 57 | N7: 432918D54835E5252C3724E6890 | R7: T | S7: F | T7: F | AU7: 010101432918D54835E5252C3724E6890 | AV7: 6
A8: 관보온(아티론+매직) | B8: 25TxD80 | C8: M | D8: 1 | N8: 432918D54835E5252C3724E6899 | R8: T | S8: F | T8: F | AU8: 010101432918D54835E5252C3724E6899 | AV8: 7
A9: 일반배관용STS강관이음쇠 | B9: 엘보(프레스) D15 | C9: EA | D9: 7 | N9: 433A1855586FD5F2A539B631E64 | R9: F | S9: F | T9: T | AU9: 010101433A1855586FD5F2A539B631E64 | AV9: 8
A10: 일반배관용STS강관이음쇠 | B10: 티이(프레스) D80x80 | C10: EA | D10: 1 | N10: 433A1855586FD5F2A539B616C19 | R10: F | S10: F | T10: T | AU10: 010101433A1855586FD5F2A539B616C19 | AV10: 9
A11: 일반배관용STS강관이음쇠 | B11: K-유니온(프레스) D13x1/2 | C11: EA | D11: 1 | N11: 433A1855586FD5F2A539B65CEB1 | R11: F | S11: F | T11: T | AU11: 010101433A1855586FD5F2A539B65CEB1 | AV11: 10
A12: 일반배관용STS강관이음쇠 | B12: 소켓(프레스) D13 | C12: EA | D12: 8 | N12: 433A1855586FD5F2A539B6A4FE6 | R12: F | S12: F | T12: T | AU12: 010101433A1855586FD5F2A539B6A4FE6 | AV12: 11
A13: 일반배관용STS강관이음쇠 | B13: 소켓(프레스) D80 | C13: EA | D13: 3 | N13: 433A1855586FD5F2A539B6B56DD | R13: F | S13: F | T13: T | AU13: 010101433A1855586FD5F2A539B6B56DD | AV13: 12
A14: 일반배관용STS강관이음쇠 | B14: 숫아답타소켓 (프레스) D13x1/2 | C14: EA | D14: 3 | N14: 433A1855586FD5F2A539B6A4D33 | R14: F | S14: F | T14: T | AU14: 010101433A1855586FD5F2A539B6A4D33 | AV14: 13
A15: 볼 밸브 | B15: 나사, 스테인리스, D15 | C15: EA | D15: 1 | N15: 432918D5482B25217B33D5DD3E2 | R15: T | S15: F | T15: F | AU15: 010101432918D5482B25217B33D5DD3E2 | AV15: 14
A16: 절연행가(달대볼트) | B16: D15 | C16: 개소 | D16: 57 | N16: 432918D54835E528FF389A41873 | R16: T | S16: F | T16: F | AU16: 010101432918D54835E528FF389A41873 | AV16: 15
A17: 절연행가(달대볼트) | B17: D80 | C17: 개소 | D17: 1 | N17: 432918D54835E528FF389A411C4 | R17: T | S17: F | T17: F | AU17: 010101432918D54835E528FF389A411C4 | AV17: 16
A27: [ 합 계 ] | F27: =SUM(F5:F26) -> 0 | H27: =SUM(H5:H26) -> 0 | J27: =SUM(J5:J26) -> 0 | L27: =SUM(L5:L26) -> 0 | N27: TOTAL
A28: 010302 급수배관철거공사 | Q28: 010102
A29: 강관절단 | B29: D80 | C29: 개소 | D29: 2 | N29: 432918D54835E52F2D3F2F8B6FF | R29: T | S29: F | T29: F | AU29: 010102432918D54835E52F2D3F2F8B6FF | AV29: 18
A30: 스텐인리스강관철거(인건비) | B30: D80 | C30: M | D30: 1 | N30: 432918D5482B25217B33D5DD135 | R30: T | S30: F | T30: F | AU30: 010102432918D5482B25217B33D5DD135 | AV30: 19
A31: 고스텐 | C31: Kg | D31: -7 | N31: 433A1855586FF5A00039C393041 | R31: F | S31: F | T31: T | AU31: 010102433A1855586FF5A00039C393041 | AV31: 20
A32: 건설폐기물수집운반및수수료 | B32: 보온재 | C32: TON | D32: 0.001 | N32: 432918D54835F53D443141B8E08 | R32: T | S32: F | T32: F | AU32: 010102432918D54835F53D443141B8E08 | AV32: 21
A51: [ 합 계 ] | F51: =SUM(F29:F50) -> 0 | H51: =SUM(H29:H50) -> 0 | J51: =SUM(J29:J50) -> 0 | L51: =SUM(L29:L50) -> 0 | N51: TOTAL
