Workbook
Name _: #REF!
Name _: #REF!
Name _: #REF!
Name __: #REF!
Name __: #REF!
Name __: #REF!
Name ___: #REF!
Name ___: #REF!
Name ___: #REF!
Name ____: #REF!
Name ____: #REF!
Name _____: #REF!
Name _____: #REF!
Name ______: #REF!
Name ______: #REF!
Name _______: #REF!
Name _______: #REF!
Name __________: #REF!
Name __________: #REF!
Name _____________0: #REF!
Name _____________0: #REF!
Name _____________11: #REF!
Name _____________11: #REF!
Name _____________12: #REF!
Name _____________12: #REF!
Name __________0: #REF!
Name __________0: #REF!
Name __________11: #REF!
Name __________11: #REF!
Name __________12: #REF!
Name __________12: #REF!
Name _________0: #REF!
Name _________0: #REF!
Name _________10: #REF!
Name _________10: #REF!
Name _________11: #REF!
Name _________11: #REF!
Name _________12: #REF!
Name _________12: #REF!
Name ________0: #REF!
Name ________0: #REF!
Name ________10: #REF!
Name ________10: #REF!
Name ________11: #REF!
Name ________11: #REF!
Name ________12: #REF!
Name ________12: #REF!
Name _______0: #REF!
Name _______0: #REF!
Name ______0: #REF!
Name ______0: #REF!
Name ______11: #REF!
Name ______11: #REF!
Name ______12: #REF!
Name ______12: #REF!
Name ______NMB96: #REF!
Name _____0: #REF!
Name _____0: #REF!
Name _____10: #REF!
Name _____10: #REF!

Sheet 설계서
A1: 설계년월일 | C1: 2026년 05 월 일 설계 | F1: 설 계 자 | I1: 심 사 자 | L1: 담 | O1: 과 | R1: 비
L2: 당 | O2: 장 | R2: 고
A3: 설 계 서
D4: 공 사 명 | G4: : | I4: 2026 개도국 정보접근센터 신축공사 (스리랑카)
D5: 총 공 사 비 | G5: : | H5: =P18 -> 0 | K5: ="(금 "&NUMBERSTRING( P18,1)&"원)" -> (금 영원)
D6: 도 급 공 사 비 | G6: : | H6: =I18 -> 0 | K6: ="(금 "&NUMBERSTRING( I18,1)&"원)" -> (금 영원)
D7: 공 급 가 액 | G7: : | H7: =D18 -> 0 | K7: ="(금 "&NUMBERSTRING( D18,1)&"원)" -> (금 영원)
D8: 부 가 가 치 세 | G8: : | H8: =G18 -> 0 | K8: ="(금 "&NUMBERSTRING( G18,1)&"원)" -> (금 영원)
D9: 관 급 자 재 비 | G9: : | H9: =L18 -> 0 | K9: ="(금 "&NUMBERSTRING( L18,1)&"원)" -> (금 영원)
D10: 기 타 경 비 | G10: : | H10: =N18 -> 0 | K10: ="(금 "&NUMBERSTRING( N18,1)&"원)" -> (금 영원)
A12: 구 분 | D12: 공 급 가 액 | G12: 부 가 세 | I12: 도 급 액 | L12: 관급자재비 | N12: 기타경비 | P12: 총 공 사 비 | T12: (%)
A13: 건 축 공 사
A14: 부 대 공 사
A18: 총 계
A24: 구분 | D24: 공급가액 | G24: 부가세 | I24: 도급액 | L24: 관급(도급) | N24: 관급(관급) | P24: 한전인입비 | R24: 합 계
A25: 전기공사 | G25: =D25*0.1 -> 0 | I25: =D25+G25 -> 0 | R25: =I25+L25+N25+P25 -> 0
A26: 통신공사 | G26: =D26*10% -> 0 | I26: =D26+G26 -> 0 | R26: =I26+L26+N26+P26 -> 0
A27: 소방공사 | G27: =D27*10% -> 0 | I27: =D27+G27 -> 0 | R27: =I27+L27+N27+P27 -> 0
A28: 합계 | D28: =SUM(D25:D27) -> 0 | G28: =SUM(G25:G27) -> 0 | I28: =SUM(I25:I27) -> 0 | L28: =SUM(L25:L27) -> 0 | N28: =SUM(N25:N27) -> 0 | P28: =SUM(P25:P27) -> 0 | R28: =I28+L28+N28+P28 -> 0
N30: =L28+N28 -> 0

Sheet 총괄집계표
A1: 2026 개도국 정보접근센터 신축공사 (스리랑카)
A2: (총 괄 집 계 표)
A4: 구분 | B4: 도급액 | C4: 관급(도급자설치) | D4: 관급(관급자설치) | E4: 시설분담금 | F4: 합계
A5: 건축공사 | B5: ='원가계산서(건축)'!E32 -> 0 | C5: ='[158]원가계산서(건축)'!H38 -> 0 | D5: ='[158]원가계산서(건축)'!H39 -> 0
A6: 부대공사 | B6: ='원가계산서 (부대)'!E32 -> 0 | C6: ='[158]원가계산서(부대공사)'!H38 -> 0 | D6: =[158]공종별총괄표!L21 -> 0
A7: 조경공사 | B7: ='[158]원가계산서(조경)'!H37 -> 0 | C7: ='[158]원가계산서(조경)'!H38 -> 0 | D7: ='[158]원가계산서(조경)'!H39 -> 0
A8: 기계설비공사 | B8: ='[158]원가계산서(기계)'!H37 -> 0 | C8: ='[158]원가계산서(기계)'!H38 -> 0 | D8: ='[158]원가계산서(기계)'!H39 -> 0
B9: ='[158]원가계산서(폐기물)'!H37 -> 0
A10: 소계 | B10: =SUM(B5:B9) -> 0 | C10: =SUM(C5:C9) -> 0 | D10: =SUM(D5:D9) -> 0 | E10: =SUM(E5:E9) -> 0
B11: =설계서!I25 -> 0 | C11: =설계서!L25 -> 0 | D11: =설계서!N25 -> 0 | E11: =설계서!P25 -> 0 | F11: =B11+C11+D11+E11 -> 0
B12: =설계서!I26 -> 0 | D12: =설계서!N26 -> 0 | F12: =B12+C12+D12+E12 -> 0
B13: =설계서!I27 -> 0 | F13: =B13+C13+D13+E13 -> 0
A14: 소계 | B14: =B11+B12+B13 -> 0 | C14: =C11+C12+C13 -> 0 | D14: =D11+D12+D13 -> 0 | E14: =E11+E12+E13 -> 0 | F14: =F11+F12+F13 -> 0
A15: 총계 | B15: =B10+B14 -> 0 | C15: =C10+C14 -> 0 | D15: =D10+D14 -> 0 | E15: =E10+E14 -> 0 | F15: =F10+F14 -> 0
E18: 설계예산
E19: 조정금액

Sheet 원가계산서(건축+부대)
B1: 공 사 원 가 계 산 서(건축+부대)
B2: 공사명 : 2026년 개도국 정보접근센터 스리랑카 국립경영원 갈레캠퍼스 | F2: 금액 : 일억육천사백구십만원(￦164,900,000)
B3: 비 목 | E3: 금 액 | F3: 구 성 비 | G3: 비 고
A4: A1 | B4: 순 공 사 원 가 | C4: 재 료 비 | D4: 직 접 재 료 비
A5: A2 | D5: 간 접 재 료 비
A6: A3 | D6: 작업설, 부산물(△)
A7: AS | D7: [ 소 계 ]
A8: B1 | C8: 노 무 비 | D8: 직 접 노 무 비
A9: B2 | D9: 간 접 노 무 비 | F9: 직접노무비 * 17.5%
A10: BS | D10: [ 소 계 ]
A11: C2 | C11: 경 비 | D11: 경 비
A12: C4 | D12: 산 재 보 험 료 | F12: 노무비 * 3.56%
A13: C5 | D13: 고 용 보 험 료 | F13: 노무비 * 1.01%
A14: C6 | D14: 국민 건강 보험료 | F14: 직접노무비 * 3.595%
A15: C7 | D15: 국민 연금 보험료 | F15: 직접노무비 * 4.75%
A16: CB | D16: 노인장기요양보험료 | F16: 건강보험료 * 13.14%
A17: C8 | D17: 퇴직 공제 부금비 | F17: 직접노무비 * 2.3%
A18: CA | D18: 산업안전보건관리비① | F18: (재료비+직노+관급자재비) * 3.11% | G18: ①번적용
A19: CE | D19: 석 면 부 담 금 | F19: 노무비 * 0.006%
A20: CF | D20: 임금 채권 부담금 | F20: 노무비 * 0.09%
A21: CG | D21: 기 타 경 비 | F21: (재료비+노무비) * 5%
A22: CH | D22: 환 경 보 전 비 | F22: (재료비+직노+경비) * 0.5%
A23: CK | D23: 하도급지급보증수수료 | F23: (재료비+직노+경비) * 0.081%
A24: CL | D24: 건설기계대여금지급보증서발급수수료 | F24: (재료비+직노+경비) * 0.07%
A25: CS | D25: [ 소 계 ]
A26: S1 | B26: 계
A27: D1 | B27: 일 반 관 리 비 | F27: 계 * 8%
A28: D2 | B28: 이 윤 | F28: (노무비+경비+일반관리비) * 15%
A29: D9 | B29: 공 급 가 액
A30: DB | B30: 부 가 가 치 세
A31: DH | B31: 도 급 액
A32: S2 | B32: 총 공 사 비

Sheet 원가계산서(건축)
B1: 공 사 원 가 계 산 서(건축)
B2: 공사명 : 2026년 개도국 정보접근센터 스리랑카 국립경영원 갈레캠퍼스 | F2: 금액 : 일억백구십칠만원(￦101,970,000)
B3: 비 목 | E3: 금 액 | F3: 구 성 비 | G3: 비 고
A4: A1 | B4: 순 공 사 원 가 | C4: 재 료 비 | D4: 직 접 재 료 비
A5: A2 | D5: 간 접 재 료 비
A6: A3 | D6: 작업설, 부산물(△)
A7: AS | D7: [ 소 계 ]
A8: B1 | C8: 노 무 비 | D8: 직 접 노 무 비
A9: B2 | D9: 간 접 노 무 비 | F9: 직접노무비 * 17.5%
A10: BS | D10: [ 소 계 ]
A11: C2 | C11: 경 비 | D11: 경 비
A12: C4 | D12: 산 재 보 험 료 | F12: 노무비 * 3.56%
A13: C5 | D13: 고 용 보 험 료 | F13: 노무비 * 1.01%
A14: C6 | D14: 국민 건강 보험료 | F14: 직접노무비 * 3.595%
A15: C7 | D15: 국민 연금 보험료 | F15: 직접노무비 * 4.75%
A16: CB | D16: 노인장기요양보험료 | F16: 건강보험료 * 13.14%
A17: C8 | D17: 퇴직 공제 부금비 | F17: 직접노무비 * 2.3%
A18: CA | D18: 산업안전보건관리비① | F18: (재료비+직노+관급자재비) * 3.11% | G18: ①번적용
A19: CE | D19: 석 면 부 담 금 | F19: 노무비 * 0.006%
A20: CF | D20: 임금 채권 부담금 | F20: 노무비 * 0.09%
A21: CG | D21: 기 타 경 비 | F21: (재료비+노무비) * 5%
A22: CH | D22: 환 경 보 전 비 | F22: (재료비+직노+경비) * 0.5%
A23: CK | D23: 하도급지급보증수수료 | F23: (재료비+직노+경비) * 0.081%
A24: CL | D24: 건설기계대여금지급보증서발급수수료 | F24: (재료비+직노+경비) * 0.07%
A25: CS | D25: [ 소 계 ]
A26: S1 | B26: 계
A27: D1 | B27: 일 반 관 리 비 | F27: 계 * 8%
A28: D2 | B28: 이 윤 | F28: (노무비+경비+일반관리비) * 15%
A29: D9 | B29: 공 급 가 액
A30: DB | B30: 부 가 가 치 세
A31: DH | B31: 도 급 액
A32: S2 | B32: 총 공 사 비

Sheet 원가계산서 (부대)
B1: 공 사 원 가 계 산 서(부대)
B2: 공사명 : 2026년 개도국 정보접근센터 스리랑카 국립경영원 갈레캠퍼스 | F2: 금액 : 육천삼백구만원(￦63,090,000)
B3: 비 목 | E3: 금 액 | F3: 구 성 비 | G3: 비 고
A4: A1 | B4: 순 공 사 원 가 | C4: 재 료 비 | D4: 직 접 재 료 비
A5: A2 | D5: 간 접 재 료 비
A6: A3 | D6: 작업설, 부산물(△)
A7: AS | D7: [ 소 계 ]
A8: B1 | C8: 노 무 비 | D8: 직 접 노 무 비
A9: B2 | D9: 간 접 노 무 비 | F9: 직접노무비 * 17.5%
A10: BS | D10: [ 소 계 ]
A11: C2 | C11: 경 비 | D11: 경 비
A12: C4 | D12: 산 재 보 험 료 | F12: 노무비 * 3.56%
A13: C5 | D13: 고 용 보 험 료 | F13: 노무비 * 1.01%
A14: C6 | D14: 국민 건강 보험료 | F14: 직접노무비 * 3.595%
A15: C7 | D15: 국민 연금 보험료 | F15: 직접노무비 * 4.75%
A16: CB | D16: 노인장기요양보험료 | F16: 건강보험료 * 13.14%
A17: C8 | D17: 퇴직 공제 부금비 | F17: 직접노무비 * 2.3%
A18: CA | D18: 산업안전보건관리비① | F18: (재료비+직노+관급자재비) * 3.11% | G18: ①번적용
A19: CE | D19: 석 면 부 담 금 | F19: 노무비 * 0.006%
A20: CF | D20: 임금 채권 부담금 | F20: 노무비 * 0.09%
A21: CG | D21: 기 타 경 비 | F21: (재료비+노무비) * 5%
A22: CH | D22: 환 경 보 전 비 | F22: (재료비+직노+경비) * 0.5%
A23: CK | D23: 하도급지급보증수수료 | F23: (재료비+직노+경비) * 0.081%
A24: CL | D24: 건설기계대여금지급보증서발급수수료 | F24: (재료비+직노+경비) * 0.07%
A25: CS | D25: [ 소 계 ]
A26: S1 | B26: 계
A27: D1 | B27: 일 반 관 리 비 | F27: 계 * 8%
A28: D2 | B28: 이 윤 | F28: (노무비+경비+일반관리비) * 15%
A29: D9 | B29: 공 급 가 액
A30: DB | B30: 부 가 가 치 세
A31: DH | B31: 도 급 액
A32: S2 | B32: 총 공 사 비

Sheet 공종별집계표
A1: 공 종 별 집 계 표
A2: [ 2026년 개도국 정보접근센터 스리랑카 국립경영원 갈레캠퍼스 ]
A3: 품 명 | B3: 규 격 | C3: 단위 | D3: 수량 | E3: 재 료 비 | G3: 노 무 비 | I3: 경 비 | K3: 합 계 | M3: 비 고 | N3: 공종코드 | O3: 변수 | P3: 상위공종 | Q3: 공종구분 | R3: 공종레벨 | S3: 공종소계 | T3: 원가계산서 연결금액
E4: 단 가 | F4: 금 액 | G4: 단 가 | H4: 금 액 | I4: 단 가 | J4: 금 액 | K4: 단 가 | L4: 금 액
A5: 01 2026년 개도국 정보접근센터 스리랑카 국립경영원 갈레캠퍼스 | D5: 1 | N5: 01 | R5: 1
A6: 0101 ◈ 건축공사 ◈ | D6: 1 | N6: 0101 | P6: 01 | R6: 2
A7: 010101 가 설 공 사 | D7: 1 | N7: 010101 | P7: 0101 | R7: 3
A8: 010102 창 호 공 사 | D8: 1 | N8: 010102 | P8: 0101 | R8: 3
A9: 010103 유 리 공 사 | D9: 1 | N9: 010103 | P9: 0101 | R9: 3
A10: 010104 칠 공 사 | D10: 1 | N10: 010104 | P10: 0101 | R10: 3
A11: 010105 수 장 공 사 | D11: 1 | N11: 010105 | P11: 0101 | R11: 3
A12: 010106 사 인 물 설 치 | D12: 1 | N12: 010106 | P12: 0101 | R12: 3
A13: 0102 ◈ 부대공사01 ◈ | D13: 1 | N13: 0102 | P13: 01 | R13: 2
A14: 0103 ◈ 부대공사02 ◈ | D14: 1 | N14: 0103 | P14: 01 | R14: 2
N15: 0104 | P15: 01 | R15: 2
A27: [ 합 계 ]

Sheet 공종별내역서
A1: [ 2026년 개도국 정보접근센터 스리랑카 국립경영원 갈레캠퍼스 ]
A2: 품 명 | B2: 규 격 | C2: 단위 | D2: 수량 | E2: 재 료 비 | G2: 노 무 비 | I2: 경 비 | K2: 합 계 | M2: 비 고 | N2: 품목코드 | O2: 변수 | P2: 설정 | Q2: 공종코드 | R2: 일위 | S2: 단산 | T2: 자재 | U2: 손료적용 | V2: 손료저장 | W2: 적용율 | X2: JUK1 | Y2: JUK2 | Z2: JUK3 | AA2: JUK4 | AB2: JUK5 | AC2: JUK6 | AD2: JUK7 | AE2: JUK8 | AF2: JUK9 | AG2: JUK10 | AH2: JUK11 | AI2: JUK12 | AJ2: JUK13 | AK2: JUK14 | AL2: JUK15 | AM2: JUK16 | AN2: JUK17 | AO2: JUK18 | AP2: JUK19 | AQ2: JUK20 | AR2: 자재구분 | AS2: 공종구분 | AT2: 공종레벨 | AU2: 공종+자재 | AV2: 고유번호
E3: 단 가 | F3: 금 액 | G3: 단 가 | H3: 금 액 | I3: 단 가 | J3: 금 액 | K3: 단 가 | L3: 금 액
A4: 010101 가 설 공 사 | Q4: 010101
A5: 강관 조립말비계(이동식)설치 및 해체 | B5: 높이 2m, 3개월 | C5: 대 | D5: 3 | N5: 5372230002D6125965FFB716598639 | Q5: 010101 | R5: T | S5: F | T5: F | AU5: 0101015372230002D6125965FFB716598639 | AV5: 4
A6: 현장정리 및 청소 | B6: 보수 | C6: M2 | D6: 387 | N6: 53722305025652A375F7012A1D20D4 | Q6: 010101 | R6: T | S6: F | T6: F | AU6: 01010153722305025652A375F7012A1D20D4 | AV6: 5
Q7: 010101
Q8: 010101
Q9: 010101
Q10: 010101
Q11: 010101
Q12: 010101
Q13: 010101
Q14: 010101
Q15: 010101
Q16: 010101
Q17: 010101
Q18: 010101
... Q26: 010101
A27: [ 합 계 ] | N27: TOTAL
A28: 010102 창 호 공 사 | Q28: 010102
A29: TFD01[방화문] | B29: 0.900 x 2.100 = 1.890 | C29: EA | D29: 3 | N29: 5372F3B802A6C8E0C5915B3DAD77DF | Q29: 010102 | R29: T | S29: F | T29: F | AU29: 0101025372F3B802A6C8E0C5915B3DAD77DF | AV29: 22
A30: TFD02[방화문] | B30: 1.500 x 2.100 = 3.150 | C30: EA | D30: 4 | N30: 5372F3B802A6C8E0C5915B3DAD77DD | Q30: 010102 | R30: T | S30: F | T30: F | AU30: 0101025372F3B802A6C8E0C5915B3DAD77DD | AV30: 23
A31: TFW01[방화창] | B31: 1.500 x 0.900 = 1.350 | C31: EA | D31: 9 | N31: 5372F3B802A6C8E0C5915B3DAD77DB | Q31: 010102 | R31: T | S31: F | T31: F | AU31: 0101025372F3B802A6C8E0C5915B3DAD77DB | AV31: 24
A32: 도어클로저 | B32: 도어클로저, K-1630, KS3호, 중급스톱형, 40∼65kg | C32: 조 | D32: 11 | N32: 5453135802E62788F51EED0753DD3D915AAB9A | Q32: 010102 | R32: F | S32: F | T32: T | AU32: 0101025453135802E62788F51EED0753DD3D915AAB9A | AV32: 18
A33: 피벗힌지 | B33: 피벗힌지, 80kg이하, K1200 | C33: 조 | D33: 11 | N33: 545303B202067729252364CBE7273E04D5FB2F | Q33: 010102 | R33: F | S33: F | T33: T | AU33: 010102545303B202067729252364CBE7273E04D5FB2F | AV33: 19
A34: 도어핸들 | B34: 레바형 | C34: 조 | D34: 11 | N34: 545303B202067729E5D4CE014BBD52E4A2F003 | Q34: 010102 | R34: F | S34: F | T34: T | AU34: 010102545303B202067729E5D4CE014BBD52E4A2F003 | AV34: 20
A35: 수밀코킹(실리콘) | B35: 삼각, 5mm이하 | C35: M | D35: 119 | N35: 5372B3180266BB7225D06F05EF9043 | Q35: 010102 | R35: T | S35: F | T35: F | AU35: 0101025372B3180266BB7225D06F05EF9043 | AV35: 21
A36: 도어록 설치 / 일반도어록 강재창호 | B36: 재료비 별도 | C36: 개소 | D36: 11 | N36: 5372F3BF02D6AB5455F9827BC11391 | Q36: 010102 | R36: T | S36: F | T36: F | AU36: 0101025372F3BF02D6AB5455F9827BC11391 | AV36: 25
A37: 도어체크 설치 | B37: 재료비 별도 | C37: 개소 | D37: 11 | N37: 5372F3BF02D6AB0C259AC236A4AB2D | Q37: 010102 | R37: T | S37: F | T37: F | AU37: 0101025372F3BF02D6AB0C259AC236A4AB2D | AV37: 26
A38: 창호주위 발포우레탄 충전 | B38: 준불연 | C38: M | D38: 81 | N38: 5372F3BF02D6F38A45B670C4C894EB | Q38: 010102 | R38: T | S38: F | T38: F | AU38: 0101025372F3BF02D6F38A45B670C4C894EB | AV38: 27
Q39: 010102
Q40: 010102
Q41: 010102
Q42: 010102
Q43: 010102
Q44: 010102
Q45: 010102
Q46: 010102
Q47: 010102
...

Sheet  공사설정 
A1: 이 Sheet는 수정하지 마십시요
A2: 공사구분 | B2: A | C2: 타이틀
A3: 확정내역 | B3: 원내역
A4: 자재단가적용 | B4: 5
A5: 경비단가적용 | B5: 5
A6: 품목코드형식 | B6: XXXX-XXXX-XXXXXXXXX
A7: 내역금액소수점처리 | B7: C | C7: T
A8: 일위대가내역소수점처리 | B8: C | C8: 2
A9: 단가명 | B9: 조달청가격 | C9: 거래가격 | D9: 유통물가 | E9: 물가자료 | F9: 조사가격 | G9: TTTTT
A10: 환율 | B10: 1472 | C10: 0 | D10: 0
A11: 시간당작업량 | B11: R | C11: 4
A12: 1회 사이클시간 | B12: R | C12: 4
A13: 시간당 작업사이클 | B13: R | C13: 3
A14: 일반변수 | B14: R | C14: 5
A15: 시간당 노임산출 계수 | B15: A | C15: 1/8*16/12*25/20 | D15: 1/8*16/12*25/20 | E15: 1/8*16/12*25/20 | F15: 1
A16: 재료비 할증 계수 | B16: 1.11 | C16: 1.12
A17: 노무비 할증 계수 | B17: 1 | C17: 1.5 | D17: 1.16 | E17: 1.6 | F17: 1.6 | G17: 1.6 | H17: 1.94 | I17: 1.94 | J17: 1.94 | K17: 1 | L17: 1 | M17: 1
A18: 경비 할증 계수 | B18: 1.25 | C18: 1.071
A19: 내역,일위대가 품명,규격,단위 따로적용
A20: 내역단가 소수점처리 | B20: C | C20: 1
A21: 코드 | B21: 공종구분명 | C21: 원가비목코드
A22: 1 | B22: 작 업 부 산 물 | C22: A3
A23: 2 | B23: 운 반 비 | C23: C1
A24: 3 | B24: 도급자관급자재 | C24: DJ
A25: 4 | B25: 사 급 자 재 비 | C25: D3
A26: 5 | B26: 외 자 재
A27: 6 | B27: 폐기물처리비 | C27: CC
A28: 7 | B28: 관급자관급자재 | C28: DK
A29: 8
A30: 9 | B30: ...
A43: 단가 순서 | B43: 1234

Sheet Sheet1
